BEGIN:VCALENDAR
VERSION:2.0
PRODID:-//SD Proarmis - ECPv6.15.14//NONSGML v1.0//EN
CALSCALE:GREGORIAN
METHOD:PUBLISH
X-WR-CALNAME:SD Proarmis
X-ORIGINAL-URL:http://sdproarmis.si
X-WR-CALDESC:Dogodki za SD Proarmis
REFRESH-INTERVAL;VALUE=DURATION:PT1H
X-Robots-Tag:noindex
X-PUBLISHED-TTL:PT1H
BEGIN:VTIMEZONE
TZID:Europe/Ljubljana
BEGIN:DAYLIGHT
TZOFFSETFROM:+0100
TZOFFSETTO:+0200
TZNAME:CEST
DTSTART:20250330T010000
END:DAYLIGHT
BEGIN:STANDARD
TZOFFSETFROM:+0200
TZOFFSETTO:+0100
TZNAME:CET
DTSTART:20251026T010000
END:STANDARD
BEGIN:DAYLIGHT
TZOFFSETFROM:+0100
TZOFFSETTO:+0200
TZNAME:CEST
DTSTART:20260329T010000
END:DAYLIGHT
BEGIN:STANDARD
TZOFFSETFROM:+0200
TZOFFSETTO:+0100
TZNAME:CET
DTSTART:20261025T010000
END:STANDARD
BEGIN:DAYLIGHT
TZOFFSETFROM:+0100
TZOFFSETTO:+0200
TZNAME:CEST
DTSTART:20270328T010000
END:DAYLIGHT
BEGIN:STANDARD
TZOFFSETFROM:+0200
TZOFFSETTO:+0100
TZNAME:CET
DTSTART:20271031T010000
END:STANDARD
END:VTIMEZONE
BEGIN:VEVENT
DTSTART;TZID=Europe/Ljubljana:20260511T093000
DTEND;TZID=Europe/Ljubljana:20260511T143000
DTSTAMP:20260421T162049
CREATED:20250223T073104Z
LAST-MODIFIED:20260421T075837Z
UID:3714-1778491800-1778509800@sdproarmis.si
SUMMARY:Usposabljanje o ravnanju z orožjem - 2. del
DESCRIPTION:Kje? \nStrelišče Zveze strelskih društev Maribor\, Meljski hrib 77\, 2000 Maribor \nKdaj? \nPonedeljek\,  11. 5. 2026  /  TERMIN: 9.30 do 14.00 ure \nTeme usposabljanja: \n\npravilno ravnanje pri uporabi orožja (streljanje in odpravljanje zastojev);\nrazstavljanje in sestavljanje orožja.\n\nOprema – kandidati potrebujejo oblačila in obutev primerno za tovrstne aktivnosti. Vso ostalo opremo zagotovimo v društvu.
URL:http://sdproarmis.si/dogodek/usposabljanje-o-ravnanju-z-orozjem-2del/
LOCATION:Strelišče ZSDM\, Meljski hrib 77\, Maribor\, 2000\, Slovenija
ATTACH;FMTTYPE=image/jpeg:http://sdproarmis.si/wp-content/uploads/2022/09/Strelisce-1-min-scaled.jpg
ORGANIZER;CN="SD Proarmis":MAILTO:sdproarmis@gmail.com
END:VEVENT
END:VCALENDAR